BEGIN:VCALENDAR
VERSION:2.0
PRODID:-//Best Of Amador.com - ECPv6.15.20//NONSGML v1.0//EN
CALSCALE:GREGORIAN
METHOD:PUBLISH
X-ORIGINAL-URL:https://bestofamador.com
X-WR-CALDESC:Events for Best Of Amador.com
REFRESH-INTERVAL;VALUE=DURATION:PT1H
X-Robots-Tag:noindex
X-PUBLISHED-TTL:PT1H
BEGIN:VTIMEZONE
TZID:America/Los_Angeles
BEGIN:DAYLIGHT
TZOFFSETFROM:-0800
TZOFFSETTO:-0700
TZNAME:PDT
DTSTART:20250309T100000
END:DAYLIGHT
BEGIN:STANDARD
TZOFFSETFROM:-0700
TZOFFSETTO:-0800
TZNAME:PST
DTSTART:20251102T090000
END:STANDARD
BEGIN:DAYLIGHT
TZOFFSETFROM:-0800
TZOFFSETTO:-0700
TZNAME:PDT
DTSTART:20260308T100000
END:DAYLIGHT
BEGIN:STANDARD
TZOFFSETFROM:-0700
TZOFFSETTO:-0800
TZNAME:PST
DTSTART:20261101T090000
END:STANDARD
BEGIN:DAYLIGHT
TZOFFSETFROM:-0800
TZOFFSETTO:-0700
TZNAME:PDT
DTSTART:20270314T100000
END:DAYLIGHT
BEGIN:STANDARD
TZOFFSETFROM:-0700
TZOFFSETTO:-0800
TZNAME:PST
DTSTART:20271107T090000
END:STANDARD
END:VTIMEZONE
BEGIN:VEVENT
DTSTART;TZID=America/Los_Angeles:20260418T200000
DTEND;TZID=America/Los_Angeles:20260418T220000
DTSTAMP:20260423T062130
CREATED:20260416T061951Z
LAST-MODIFIED:20260416T061953Z
UID:10004355-1776542400-1776549600@bestofamador.com
SUMMARY:Locked-N-Loaded
DESCRIPTION:Enjoy a night of classic and modern country music when Locked-N-Loaded brings its high-energy show to Sutter Creek Theatre. Known for delivering the “true country experience\,” the multi-award-winning band performs chart-topping country hits spanning the 1960s through today\, with a full country lineup that includes pedal steel guitar and Nashville-style lead guitar. \n\n\n\nDoors open at 6:30 PM and the show begins at 7 PM. Open seating is available\, and beer and wine will be offered for purchase. Advance tickets are $25\, or $29 the day of the show. \n\n\n\nLocked-N-Loaded performs Saturday\, April 18\, 2026\, from 7 PM to 9 PM at Sutter Creek Theatre\, 44 Main Street in Sutter Creek\, CA. \n\n\n\nFor more information or to purchase tickets\, visit www.suttercreektheater.com or call 916-425-0077.
URL:https://bestofamador.com/event/locked-n-loaded/
LOCATION:Sutter Creek Theatre\, 44 Main Street\, Sutter Creek\, California\, 95685\, United States
CATEGORIES:Concert
ATTACH;FMTTYPE=image/jpeg:https://bestofamador.com/wp-content/uploads/2026/04/668597413_1603541788439468_145223978717994997_n.jpg
ORGANIZER;CN="Sutter Creek Theatre":MAILTO:info@suttercreektheatre.com
END:VEVENT
BEGIN:VEVENT
DTSTART;TZID=America/Los_Angeles:20260417T200000
DTEND;TZID=America/Los_Angeles:20260417T220000
DTSTAMP:20260423T062130
CREATED:20260416T061327Z
LAST-MODIFIED:20260416T061328Z
UID:10004354-1776456000-1776463200@bestofamador.com
SUMMARY:Never A Dull Moment Band vs Start Me Up! Band
DESCRIPTION:Get ready for a night of classic rock at Sutter Creek Theatre as two powerhouse tribute acts take the stage for an evening celebrating the music of Rod Stewart and The Rolling Stones. Never A Dull Moment brings the hits\, swagger\, and signature sound of Rod Stewart to life\, while Start Me Up! delivers a high-energy tribute to the timeless music and style of The Rolling Stones. \n\n\n\nThis two-in-one tribute show promises a fun night of familiar songs\, rock-and-roll nostalgia\, and plenty of energy. Doors open at 7:30 PM\, the show begins at 8 PM\, and beer and wine will be available for purchase. Advance tickets are $35\, or $41 the day of the show. \n\n\n\nRod Stewart vs. Rolling Stones takes place Friday\, April 17\, 2026\, from 8 PM to 10 PM at Sutter Creek Theatre\, 44 Main Street in Sutter Creek\, CA. \n\n\n\nFor more information or to purchase tickets\, visit www.suttercreektheater.com or call 916-425-0077.
URL:https://bestofamador.com/event/never-a-dull-moment-band-vs-start-me-up-band/
LOCATION:Sutter Creek Theatre\, 44 Main Street\, Sutter Creek\, California\, 95685\, United States
CATEGORIES:Concert
ATTACH;FMTTYPE=image/jpeg:https://bestofamador.com/wp-content/uploads/2026/04/669956932_1603277818465865_7099550103722051126_n.jpg
ORGANIZER;CN="Sutter Creek Theatre":MAILTO:info@suttercreektheatre.com
END:VEVENT
END:VCALENDAR