BEGIN:VCALENDAR
VERSION:2.0
PRODID:-//Best Of Amador.com - ECPv6.15.20//NONSGML v1.0//EN
CALSCALE:GREGORIAN
METHOD:PUBLISH
X-ORIGINAL-URL:https://bestofamador.com
X-WR-CALDESC:Events for Best Of Amador.com
REFRESH-INTERVAL;VALUE=DURATION:PT1H
X-Robots-Tag:noindex
X-PUBLISHED-TTL:PT1H
BEGIN:VTIMEZONE
TZID:America/Los_Angeles
BEGIN:DAYLIGHT
TZOFFSETFROM:-0800
TZOFFSETTO:-0700
TZNAME:PDT
DTSTART:20220313T100000
END:DAYLIGHT
BEGIN:STANDARD
TZOFFSETFROM:-0700
TZOFFSETTO:-0800
TZNAME:PST
DTSTART:20221106T090000
END:STANDARD
BEGIN:DAYLIGHT
TZOFFSETFROM:-0800
TZOFFSETTO:-0700
TZNAME:PDT
DTSTART:20230312T100000
END:DAYLIGHT
BEGIN:STANDARD
TZOFFSETFROM:-0700
TZOFFSETTO:-0800
TZNAME:PST
DTSTART:20231105T090000
END:STANDARD
BEGIN:DAYLIGHT
TZOFFSETFROM:-0800
TZOFFSETTO:-0700
TZNAME:PDT
DTSTART:20240310T100000
END:DAYLIGHT
BEGIN:STANDARD
TZOFFSETFROM:-0700
TZOFFSETTO:-0800
TZNAME:PST
DTSTART:20241103T090000
END:STANDARD
END:VTIMEZONE
BEGIN:VEVENT
DTSTART;TZID=America/Los_Angeles:20230107T080000
DTEND;TZID=America/Los_Angeles:20230107T100000
DTSTAMP:20260421T083205
CREATED:20230208T161746Z
LAST-MODIFIED:20230208T161748Z
UID:10003618-1673078400-1673085600@bestofamador.com
SUMMARY:Amador Cars & Coffee
DESCRIPTION:Come check out some cool rides from the past at Amador Cars & Coffee.  Amador Cars and Coffee takes place every first and third Saturday in June and July at the Raley’s parking lot in Jackson.  This is a gathering of like minded people who love cars and trucks.  The event will run from 8 am to 10ish (weather permitting). \nThe Jackson Raley’s is located at 781 South Highway 49\, Jackson\, California.  For more information\, please check out the Amador Cars and Coffee Facebook Group.
URL:https://bestofamador.com/event/amador-cars-coffee-2/2023-01-07/
LOCATION:Raley’s\, 781 CA-49\, Jackson\, CA\, 95642\, United States
CATEGORIES:Car Show
END:VEVENT
BEGIN:VEVENT
DTSTART;TZID=America/Los_Angeles:20230121T080000
DTEND;TZID=America/Los_Angeles:20230121T100000
DTSTAMP:20260421T083205
CREATED:20230208T161746Z
LAST-MODIFIED:20230208T161748Z
UID:10003619-1674288000-1674295200@bestofamador.com
SUMMARY:Amador Cars & Coffee
DESCRIPTION:Come check out some cool rides from the past at Amador Cars & Coffee.  Amador Cars and Coffee takes place every first and third Saturday in June and July at the Raley’s parking lot in Jackson.  This is a gathering of like minded people who love cars and trucks.  The event will run from 8 am to 10ish (weather permitting). \nThe Jackson Raley’s is located at 781 South Highway 49\, Jackson\, California.  For more information\, please check out the Amador Cars and Coffee Facebook Group.
URL:https://bestofamador.com/event/amador-cars-coffee-2/2023-01-21/
LOCATION:Raley’s\, 781 CA-49\, Jackson\, CA\, 95642\, United States
CATEGORIES:Car Show
END:VEVENT
END:VCALENDAR