BEGIN:VCALENDAR
VERSION:2.0
PRODID:-//Best Of Amador.com - ECPv6.15.20//NONSGML v1.0//EN
CALSCALE:GREGORIAN
METHOD:PUBLISH
X-ORIGINAL-URL:https://bestofamador.com
X-WR-CALDESC:Events for Best Of Amador.com
REFRESH-INTERVAL;VALUE=DURATION:PT1H
X-Robots-Tag:noindex
X-PUBLISHED-TTL:PT1H
BEGIN:VTIMEZONE
TZID:America/Los_Angeles
BEGIN:DAYLIGHT
TZOFFSETFROM:-0800
TZOFFSETTO:-0700
TZNAME:PDT
DTSTART:20250309T100000
END:DAYLIGHT
BEGIN:STANDARD
TZOFFSETFROM:-0700
TZOFFSETTO:-0800
TZNAME:PST
DTSTART:20251102T090000
END:STANDARD
BEGIN:DAYLIGHT
TZOFFSETFROM:-0800
TZOFFSETTO:-0700
TZNAME:PDT
DTSTART:20260308T100000
END:DAYLIGHT
BEGIN:STANDARD
TZOFFSETFROM:-0700
TZOFFSETTO:-0800
TZNAME:PST
DTSTART:20261101T090000
END:STANDARD
BEGIN:DAYLIGHT
TZOFFSETFROM:-0800
TZOFFSETTO:-0700
TZNAME:PDT
DTSTART:20270314T100000
END:DAYLIGHT
BEGIN:STANDARD
TZOFFSETFROM:-0700
TZOFFSETTO:-0800
TZNAME:PST
DTSTART:20271107T090000
END:STANDARD
END:VTIMEZONE
BEGIN:VEVENT
DTSTART;TZID=America/Los_Angeles:20260214T080000
DTEND;TZID=America/Los_Angeles:20260214T110000
DTSTAMP:20260424T053925
CREATED:20260212T052609Z
LAST-MODIFIED:20260212T052618Z
UID:10004301-1771056000-1771066800@bestofamador.com
SUMMARY:Valentine's Pancake Breakfast
DESCRIPTION:The VFW Auxiliary Post 8254 in Ione invites you to their Valentine’s Pancake Breakfast. Guests can enjoy a hearty breakfast of pancakes\, scrambled eggs\, sausage\, country potatoes\, and beverages — and choose to eat in or take out. \n\n\n\nAdvance tickets are available for $15 and can be purchased ahead of time from Robyn Ornsby at Robyn’s Nest (209-304-8780)\, at VFW Post 8254 when open in the afternoons\, or at Kristi Roots Insurance (34 South Buena Vista Street\, Ione). Tickets at the door will be available for $20. \n\n\n\nThe VFW Valentine’s Day Pancake Breakfast will be held at the Ione Memorial District Hall at 207 South Amador Street in Ione.  For more information\, call Kristi Roots Insurance at 209-274-4543.
URL:https://bestofamador.com/event/valentines-pancake-breakfast/
LOCATION:Ione Memorial District Hall\, 207 S Amador Street\, Ione\, California\, 95640\, United States
CATEGORIES:Breakfast,Community Feed,Valentine's Day
ATTACH;FMTTYPE=image/jpeg:https://bestofamador.com/wp-content/uploads/2026/02/617843367_33829863566604611_7801763676989265436_n.jpg
END:VEVENT
END:VCALENDAR