BEGIN:VCALENDAR
VERSION:2.0
PRODID:-//Best Of Amador.com - ECPv6.15.20//NONSGML v1.0//EN
CALSCALE:GREGORIAN
METHOD:PUBLISH
X-ORIGINAL-URL:https://bestofamador.com
X-WR-CALDESC:Events for Best Of Amador.com
REFRESH-INTERVAL;VALUE=DURATION:PT1H
X-Robots-Tag:noindex
X-PUBLISHED-TTL:PT1H
BEGIN:VTIMEZONE
TZID:America/Los_Angeles
BEGIN:DAYLIGHT
TZOFFSETFROM:-0800
TZOFFSETTO:-0700
TZNAME:PDT
DTSTART:20240310T100000
END:DAYLIGHT
BEGIN:STANDARD
TZOFFSETFROM:-0700
TZOFFSETTO:-0800
TZNAME:PST
DTSTART:20241103T090000
END:STANDARD
BEGIN:DAYLIGHT
TZOFFSETFROM:-0800
TZOFFSETTO:-0700
TZNAME:PDT
DTSTART:20250309T100000
END:DAYLIGHT
BEGIN:STANDARD
TZOFFSETFROM:-0700
TZOFFSETTO:-0800
TZNAME:PST
DTSTART:20251102T090000
END:STANDARD
BEGIN:DAYLIGHT
TZOFFSETFROM:-0800
TZOFFSETTO:-0700
TZNAME:PDT
DTSTART:20260308T100000
END:DAYLIGHT
BEGIN:STANDARD
TZOFFSETFROM:-0700
TZOFFSETTO:-0800
TZNAME:PST
DTSTART:20261101T090000
END:STANDARD
END:VTIMEZONE
BEGIN:VEVENT
DTSTART;TZID=America/Los_Angeles:20251128T180000
DTEND;TZID=America/Los_Angeles:20251128T210000
DTSTAMP:20260420T072558
CREATED:20251109T031349Z
LAST-MODIFIED:20251109T031358Z
UID:10004244-1764352800-1764363600@bestofamador.com
SUMMARY:Annual Festival of Trees
DESCRIPTION:Step into the magic of the season at Jackson’s 2nd Annual Festival of Trees\, presented by the City of Jackson’s Economic Development Committee. Stroll through a festive forest of more than 20 beautifully decorated Christmas trees created by local non-profit organizations. \n\n\n\nVisitors can enjoy the displays\, vote for their favorite\, and help select this year’s “Best of Show” tree during the Christmas Delights Open House weekend which includes shops and restaurants open late\, horse-drawn carriage rides\, and a tree lighting with Santa at 6 pm at the Firehouse followed by pictures with Santa at the National Hotel.  The Festival of Trees will be in the Historic Krabbenhoft Building located at 204 N. Main Street in Jackson. \n\n\n\nAnd while you’re visiting the Christmas Delights and the Festival of Trees\, check out the Tunnel of Lights located on the footbridge next to the National Hotel.  This year’s expanded display features thousands more lights illuminating the bridge and surrounding area\, perfect for evening walks and festive photo opportunities.   \n\n\n\nThe Tunnel of Lights will run every evening from November 28th through December 31st.
URL:https://bestofamador.com/event/annual-festival-of-trees/2025-11-28/
LOCATION:Jackson Main Street\, Main Street\, Jackson\, CA\, 95642\, United States
CATEGORIES:Christmas,Holiday,Shopping
ATTACH;FMTTYPE=image/jpeg:https://bestofamador.com/wp-content/uploads/2025/11/565220985_816311994429043_9213849002839033017_n.jpg
ORGANIZER;CN="City of Jackson":MAILTO:cinfo@ci.jackson.ca.us
END:VEVENT
BEGIN:VEVENT
DTSTART;TZID=America/Los_Angeles:20251128T180000
DTEND;TZID=America/Los_Angeles:20251128T210000
DTSTAMP:20260420T072558
CREATED:20251125T185037Z
LAST-MODIFIED:20251125T185056Z
UID:10004286-1764352800-1764363600@bestofamador.com
SUMMARY:Christmas Delights
DESCRIPTION:Celebrate the start of the holiday season in downtown Jackson at Christmas Delights\, a two-night community celebration stretching the length of historic Main Street. Shops and restaurants will stay open late as visitors enjoy festive lights\, holiday displays\, and family activities throughout the evening. \n\n\n\nThe festivities include a tree lighting ceremony with Santa at the Firehouse at 6 PM\, followed by free photos with Santa at the National Hotel. Families can enjoy free horse-drawn carriage rides\, kid-friendly crafts and activities\, and a variety of holiday-themed attractions located up and down the street. \n\n\n\nHighlights also include the Christmas Light Show\, the North Pole experience\, and additional seasonal displays created by local organizations and businesses. \n\n\n\nThis collaborative event is brought to life by Main Street merchants\, the Jackson Business Association\, the Jackson Fire Department\, the Jackson Economic Development Committee\, the City of Jackson\, and the Amador County Chamber of Commerce. \n\n\n\nChristmas Delights happens on Friday\, November 28th and Saturday\, November 29th on Main Street in Jackson.  For more information\, visit myione.com or the City of Jackson’s website.
URL:https://bestofamador.com/event/christmas-delights/2025-11-28/
LOCATION:Jackson Main Street\, Main Street\, Jackson\, CA\, 95642\, United States
CATEGORIES:Christmas,Shopping
ATTACH;FMTTYPE=image/jpeg:https://bestofamador.com/wp-content/uploads/2025/11/570426295_822722900454619_7563294607587189072_n.jpg
ORGANIZER;CN="City of Jackson":MAILTO:cinfo@ci.jackson.ca.us
END:VEVENT
BEGIN:VEVENT
DTSTART;TZID=America/Los_Angeles:20251128T190000
DTEND;TZID=America/Los_Angeles:20251128T210000
DTSTAMP:20260420T072559
CREATED:20251117T061712Z
LAST-MODIFIED:20251117T063047Z
UID:10004273-1764356400-1764363600@bestofamador.com
SUMMARY:A Christmas Carol
DESCRIPTION:The Baker Street Players’ beloved holiday tradition returns with A Christmas Carol\, adapted for the stage and directed by Beth Barnard. Join Ebenezer Scrooge\, Tiny Tim\, and the spirits of Christmas past\, present\, and future in this timeless story of redemption and joy\, brought to life in the newly restored Baker Street West Theatre inside the historic Old Courthouse in Jackson. \n\n\n\nPerformances run Thanksgiving weekend through mid-December (November 28th – December 14th). Friday and Saturday performances are at 7 pm while Sunday Matinees take place at 2 pm. \n\n\n\nThis year’s production marks the debut season of the new Baker Street West Theatrical Society (BSWTS). Tickets are available exclusively to members of the society. \n\n\n\nMembership for 2025 is just $10. Members may purchase tickets for themselves and up to six guests at special rates: $20 for students\, $24 for seniors\, and $28 for adults. \n\n\n\nTo become a member or reserve tickets\, email Mrs. Hudson at info@BakerStreetWest.com. \n\n\n\nBaker Street West is located on the second floor of the Old Courthouse at 108 Court Street in Jackson.  For more information\, please visit at BakerStreetWest.com.
URL:https://bestofamador.com/event/a-christmas-carol/2025-11-28/
LOCATION:Baker Street West\, 108 Court Street\, Jackson\, California\, 95642\, United States
CATEGORIES:Christmas,Theatre
ATTACH;FMTTYPE=image/jpeg:https://bestofamador.com/wp-content/uploads/2025/11/A-Christmas-Carol-2025-poster-web-644x1024-1.jpg
ORGANIZER;CN="Baker Street West":MAILTO:info@bakerstreetwest.com
END:VEVENT
BEGIN:VEVENT
DTSTART;TZID=America/Los_Angeles:20251128T193000
DTEND;TZID=America/Los_Angeles:20251128T213000
DTSTAMP:20260420T072559
CREATED:20251117T015639Z
LAST-MODIFIED:20251117T015744Z
UID:10004262-1764358200-1764365400@bestofamador.com
SUMMARY:Ebenezer Scrooge's Big Volcano Christmas Show
DESCRIPTION:The Volcano Theatre Company and Volcano Communications Group present “Ebenezer Scrooge’s Big Christmas Show\,” a fast-paced\, irreverent\, and theatrical retelling of A Christmas Carol by Gordon Greenberg and Steve Rosen\, directed by Bob Duzdevich. \n\n\n\nThis lively and inventive adaptation brings fresh humor and holiday cheer to Dickens’ timeless tale\, delivering an evening full of wit\, warmth\, and surprises. \n\n\n\nPerformances run from November 14 through December 13 in the Historic Cobblestone Theatre in Volcano. Please note that strobe lights will be used during this production. \n\n\n\nTickets and showtimes available at volcanotheatre.net.
URL:https://bestofamador.com/event/ebenezer-scrooges-big-volcano-christmas-show/2025-11-28/
LOCATION:Cobblestone Theatre\, 16138 Main Street\, Volcano\, CA\, 95689\, United States
CATEGORIES:Christmas,Theatre
ATTACH;FMTTYPE=image/jpeg:https://bestofamador.com/wp-content/uploads/2025/11/ESBVCS-Poster-final-FINAL-FINAL.jpg
END:VEVENT
END:VCALENDAR