BEGIN:VCALENDAR
VERSION:2.0
PRODID:-//Best Of Amador.com - ECPv6.15.20//NONSGML v1.0//EN
CALSCALE:GREGORIAN
METHOD:PUBLISH
X-WR-CALNAME:Best Of Amador.com
X-ORIGINAL-URL:https://bestofamador.com
X-WR-CALDESC:Events for Best Of Amador.com
REFRESH-INTERVAL;VALUE=DURATION:PT1H
X-Robots-Tag:noindex
X-PUBLISHED-TTL:PT1H
BEGIN:VTIMEZONE
TZID:America/Los_Angeles
BEGIN:DAYLIGHT
TZOFFSETFROM:-0800
TZOFFSETTO:-0700
TZNAME:PDT
DTSTART:20210314T100000
END:DAYLIGHT
BEGIN:STANDARD
TZOFFSETFROM:-0700
TZOFFSETTO:-0800
TZNAME:PST
DTSTART:20211107T090000
END:STANDARD
BEGIN:DAYLIGHT
TZOFFSETFROM:-0800
TZOFFSETTO:-0700
TZNAME:PDT
DTSTART:20220313T100000
END:DAYLIGHT
BEGIN:STANDARD
TZOFFSETFROM:-0700
TZOFFSETTO:-0800
TZNAME:PST
DTSTART:20221106T090000
END:STANDARD
BEGIN:DAYLIGHT
TZOFFSETFROM:-0800
TZOFFSETTO:-0700
TZNAME:PDT
DTSTART:20230312T100000
END:DAYLIGHT
BEGIN:STANDARD
TZOFFSETFROM:-0700
TZOFFSETTO:-0800
TZNAME:PST
DTSTART:20231105T090000
END:STANDARD
END:VTIMEZONE
BEGIN:VEVENT
DTSTART;VALUE=DATE:20220306
DTEND;VALUE=DATE:20220307
DTSTAMP:20260421T053108
CREATED:20220217T232234Z
LAST-MODIFIED:20220217T232234Z
UID:10003129-1646524800-1646611199@bestofamador.com
SUMMARY:Cattlemen's Jackpot Steer & Heifer Show
DESCRIPTION:Maybe you would like to learn about local agriculture and where all that great beef in our supermarkets come from.  Here is your opportunity.  The Cattlemen’s Jackpot Steer and Heifer show is coming to the Amador County Fairgrounds in Plymouth on Saturday and Sunday\, March 5th and 6th\, 2022. This is a great opportunity for local cattlemen to show off their cattle and compete for some great prizes\, which include cash\, belt buckles\, and more. The show is open to all breeds of cattle\, and there are different categories for steers and heifers. Saturday is the breeding heifer show and Sunday is the steer and market heifer show. Come out and support your local cattlemen on the first weekend in March.  The Cattlemen’s Jackpot Steer and Heifer show is sponsored by the Amador-El Dorado-Sacramento Cattlemen’s Association. \nThe Amador County Fairgrounds is located at 18621 Sherwood Street in Plymouth\, California.  For more information about the Show\, contact Jim Vietheer at 916-687-7620 or visit the Show’s website.
URL:https://bestofamador.com/event/cattlemens-jackpot-steer-heifer-show/2022-03-06/
LOCATION:Amador County Fairgrounds\, 18621 Sherwood Street\, Plymouth\, CA\, 95669\, United States
CATEGORIES:Animal Show
END:VEVENT
BEGIN:VEVENT
DTSTART;VALUE=DATE:20220305
DTEND;VALUE=DATE:20220306
DTSTAMP:20260421T053108
CREATED:20220217T232234Z
LAST-MODIFIED:20220217T232234Z
UID:10003128-1646438400-1646524799@bestofamador.com
SUMMARY:Cattlemen's Jackpot Steer & Heifer Show
DESCRIPTION:Maybe you would like to learn about local agriculture and where all that great beef in our supermarkets come from.  Here is your opportunity.  The Cattlemen’s Jackpot Steer and Heifer show is coming to the Amador County Fairgrounds in Plymouth on Saturday and Sunday\, March 5th and 6th\, 2022. This is a great opportunity for local cattlemen to show off their cattle and compete for some great prizes\, which include cash\, belt buckles\, and more. The show is open to all breeds of cattle\, and there are different categories for steers and heifers. Saturday is the breeding heifer show and Sunday is the steer and market heifer show. Come out and support your local cattlemen on the first weekend in March.  The Cattlemen’s Jackpot Steer and Heifer show is sponsored by the Amador-El Dorado-Sacramento Cattlemen’s Association. \nThe Amador County Fairgrounds is located at 18621 Sherwood Street in Plymouth\, California.  For more information about the Show\, contact Jim Vietheer at 916-687-7620 or visit the Show’s website.
URL:https://bestofamador.com/event/cattlemens-jackpot-steer-heifer-show/2022-03-05/
LOCATION:Amador County Fairgrounds\, 18621 Sherwood Street\, Plymouth\, CA\, 95669\, United States
CATEGORIES:Animal Show
END:VEVENT
END:VCALENDAR