BEGIN:VCALENDAR
VERSION:2.0
PRODID:-//Best Of Amador.com - ECPv6.15.20//NONSGML v1.0//EN
CALSCALE:GREGORIAN
METHOD:PUBLISH
X-WR-CALNAME:Best Of Amador.com
X-ORIGINAL-URL:https://bestofamador.com
X-WR-CALDESC:Events for Best Of Amador.com
REFRESH-INTERVAL;VALUE=DURATION:PT1H
X-Robots-Tag:noindex
X-PUBLISHED-TTL:PT1H
BEGIN:VTIMEZONE
TZID:America/Los_Angeles
BEGIN:DAYLIGHT
TZOFFSETFROM:-0800
TZOFFSETTO:-0700
TZNAME:PDT
DTSTART:20250309T100000
END:DAYLIGHT
BEGIN:STANDARD
TZOFFSETFROM:-0700
TZOFFSETTO:-0800
TZNAME:PST
DTSTART:20251102T090000
END:STANDARD
BEGIN:DAYLIGHT
TZOFFSETFROM:-0800
TZOFFSETTO:-0700
TZNAME:PDT
DTSTART:20260308T100000
END:DAYLIGHT
BEGIN:STANDARD
TZOFFSETFROM:-0700
TZOFFSETTO:-0800
TZNAME:PST
DTSTART:20261101T090000
END:STANDARD
BEGIN:DAYLIGHT
TZOFFSETFROM:-0800
TZOFFSETTO:-0700
TZNAME:PDT
DTSTART:20270314T100000
END:DAYLIGHT
BEGIN:STANDARD
TZOFFSETFROM:-0700
TZOFFSETTO:-0800
TZNAME:PST
DTSTART:20271107T090000
END:STANDARD
END:VTIMEZONE
BEGIN:VEVENT
DTSTART;TZID=America/Los_Angeles:20260419T060000
DTEND;TZID=America/Los_Angeles:20260419T140000
DTSTAMP:20260423T030930
CREATED:20250413T023855Z
LAST-MODIFIED:20260413T015202Z
UID:10004329-1776578400-1776607200@bestofamador.com
SUMMARY:Old Sutter Creek Flea Market
DESCRIPTION:Are you the kind of person who loves a good treasure hunt? If so\, the Old Sutter Creek Flea Market is definitely for you! Held every 3rd Sunday of the month at the Italian Picnic Grounds\, it’s a great place to find all sorts of antiques\, collectibles and vintage items. And once you’ve filled up your car with goodies\, be sure to visit Historic Downtown Sutter Creek for some more shopping fun!  \n\n\n\nAdmission to the Flea Market is $2.  Gates open at 6:00 am and the Flea Market runs until 2:00 pm.  Also note\, dogs are not allowed at the flea market and the flea market happens if weather permits.  Parking is free and handicapped spots are available near the entrance. \n\n\n\nAre you interested in selling?  For vendor information\, please call 209-267-8314 or 661-609-1464.  You can also email\, oldsuttercreekfleamarket@gmail.com.  This is a Tigby Hill Event. \n\n\n\nThe Italian Picnic Grounds are located at 581 California Highway 49 in Sutter Creek\, California.  For more information\, please call 209-267-8314 or visit The Old Sutter Creek Flea Market’s website\, aptly named: www.oldsuttercreekfleamarket.com.  And be sure to mark down these dates on your calendar for future Old Sutter Creek Flea Markets in 2026: January 18th\, February 15th\, March 15th\, April 19th\, May 17th\, June 21st\, July 19th\, August 16th\, September 20th\, October 18th\, November 16th\, and December 21st.
URL:https://bestofamador.com/event/old-sutter-creek-flea-market/2026-04-19/
LOCATION:Italian Picnic Grounds\, 581 CA-49\, Sutter Creek\, CA\, 95685\, United States
CATEGORIES:Flea Market
ATTACH;FMTTYPE=image/avif:https://bestofamador.com/wp-content/uploads/2025/04/25-flea.avif
ORGANIZER;CN="Tigby Hill Vintage":MAILTO:oldsuttercreekfleamarket@gmail.com
END:VEVENT
BEGIN:VEVENT
DTSTART;TZID=America/Los_Angeles:20260419T113000
DTEND;TZID=America/Los_Angeles:20260419T133000
DTSTAMP:20260423T030930
CREATED:20230422T000139Z
LAST-MODIFIED:20260412T032645Z
UID:10003631-1776598200-1776605400@bestofamador.com
SUMMARY:Empty Bowls
DESCRIPTION:The Interfaith Food Bank of Amador County presents Empty Bowls\, a fundraiser to support the work of the Interfaith Food Bank to help the hungry of Amador County. Empty Bowls will take place at the Italian Picnic Grounds on Sunday\, April 19th from 11:30 am to 1:30 pm. From the Interfaith Food Bank’s website: \n\n\n\nThis humble\, community-based event is a reminder of the hungry among us.  Each bowl represents someone in need of our help\, so come share soup provided by the generosity of local restaurants! \n\n\n\nTickets for Empty Bowls are $25 in advance\, $30 at the door. Tickets are available at the Food Bank located on Airport Rd.\, the Thrift Store located in the Sutter Hill Plaza Shopping Center\, and online at feedamador.org. \n\n\n\nThe Italian Picnic Grounds is located at 581 Highway 49 in Sutter Creek\, California.
URL:https://bestofamador.com/event/empty-bowls/
LOCATION:Italian Picnic Grounds\, 581 CA-49\, Sutter Creek\, CA\, 95685\, United States
CATEGORIES:Fundraiser
ATTACH;FMTTYPE=image/jpeg:https://bestofamador.com/wp-content/uploads/2023/04/658333199_1398559625642414_1278904961929906284_n.jpg
END:VEVENT
BEGIN:VEVENT
DTSTART;TZID=America/Los_Angeles:20260419T140000
DTEND;TZID=America/Los_Angeles:20260419T160000
DTSTAMP:20260423T030930
CREATED:20260414T052138Z
LAST-MODIFIED:20260414T052140Z
UID:10004340-1776607200-1776614400@bestofamador.com
SUMMARY:Moriarty
DESCRIPTION:Baker Street West presents Moriarty by Ken Ludwig\, a fast-paced Sherlock Holmes adventure that puts the famous detective’s greatest rival center stage. Filled with intrigue\, disguises\, surprises\, and plenty of humor\, this clever production promises an entertaining mix of mystery\, theatrical hijinks\, and laugh-out-loud moments. \n\n\n\nThe show is described as lively\, playful\, and family-friendly\, with twists\, turns\, villains\, and even a sword fight or two along the way. Whether you’re a longtime Sherlock Holmes fan or just looking for a fun night at the theater\, Moriarty offers an engaging evening of suspense and comedy. \n\n\n\nTickets are $20 for students\, $24 for seniors\, and $28 for adults. If you are not a Founding Member\, you will also need to purchase a Baker Street West Theatre Society membership with your tickets. Seating is limited\, so early reservations are encouraged. \n\n\n\nMoriarty runs from Friday\, April 17 through Sunday\, May 10\, 2026\, at Baker Street West\, 108 Summit Street in Jackson\, CA. Performances are Fridays at 7 PM\, Saturdays at 2 PM\, and Sundays at 2 PM. \n\n\n\nTo reserve seats\, visit https://moriartybykenludwig.rsvpify.com/ or www.bakerstreetwest.com.
URL:https://bestofamador.com/event/moriarty/2026-04-19/
LOCATION:Baker Street West\, 108 Court Street\, Jackson\, California\, 95642\, United States
CATEGORIES:Theatre
ATTACH;FMTTYPE=image/png:https://bestofamador.com/wp-content/uploads/2026/04/unnamed.png
ORGANIZER;CN="Baker Street West":MAILTO:info@bakerstreetwest.com
END:VEVENT
BEGIN:VEVENT
DTSTART;TZID=America/Los_Angeles:20260419T140000
DTEND;TZID=America/Los_Angeles:20260419T160000
DTSTAMP:20260423T030930
CREATED:20260416T064445Z
LAST-MODIFIED:20260416T064447Z
UID:10004361-1776607200-1776614400@bestofamador.com
SUMMARY:Catch Me If You Can
DESCRIPTION:Volcano Theatre Company presents Catch Me If You Can\, a mystery-comedy by Jack Weinstock and Willie Gilbert based on the French play Trap for a Lonely Man by Robert Thomas. Set in the 1960s during Labor Day weekend at a remote Catskills cottage\, the story follows a newlywed advertising man whose bride disappears on their honeymoon\, only to be replaced by a mysterious woman claiming to be his wife. With the arrival of a priest and a bumbling detective\, the plot twists into a clever whodunit filled with confusion\, suspicion\, red herrings\, and a surprise ending. \n\n\n\nPerformances take place in Volcano’s intimate Cobblestone Theatre\, where even the furthest seats are close to the stage. Tickets are $24 for general admission and $22 for seniors. Seating is limited to just 45 people\, so advance tickets are recommended. Doors open 30 minutes before showtime\, seating is open\, and late entry is not allowed once the performance begins. \n\n\n\nCatch Me If You Can runs from Friday\, April 10 through Saturday\, May 16\, 2026\, at the Cobblestone Theatre\, 16138 Main Street in Volcano\, CA. Performances are Friday and Saturday evenings at 7:30 PM\, with Sunday matinees at 2 PM. \n\n\n\nFor tickets and more information\, visit www.volcanotheatre.net.
URL:https://bestofamador.com/event/catch-me-if-you-can-2/2026-04-19/
LOCATION:Cobblestone Theatre\, 16138 Main Street\, Volcano\, CA\, 95689\, United States
CATEGORIES:Theatre
ATTACH;FMTTYPE=image/jpeg:https://bestofamador.com/wp-content/uploads/2026/04/Play-1-1.jpeg
END:VEVENT
END:VCALENDAR