BEGIN:VCALENDAR
VERSION:2.0
PRODID:-//Best Of Amador.com - ECPv6.15.20//NONSGML v1.0//EN
CALSCALE:GREGORIAN
METHOD:PUBLISH
X-WR-CALNAME:Best Of Amador.com
X-ORIGINAL-URL:https://bestofamador.com
X-WR-CALDESC:Events for Best Of Amador.com
REFRESH-INTERVAL;VALUE=DURATION:PT1H
X-Robots-Tag:noindex
X-PUBLISHED-TTL:PT1H
BEGIN:VTIMEZONE
TZID:America/Los_Angeles
BEGIN:DAYLIGHT
TZOFFSETFROM:-0800
TZOFFSETTO:-0700
TZNAME:PDT
DTSTART:20250309T100000
END:DAYLIGHT
BEGIN:STANDARD
TZOFFSETFROM:-0700
TZOFFSETTO:-0800
TZNAME:PST
DTSTART:20251102T090000
END:STANDARD
BEGIN:DAYLIGHT
TZOFFSETFROM:-0800
TZOFFSETTO:-0700
TZNAME:PDT
DTSTART:20260308T100000
END:DAYLIGHT
BEGIN:STANDARD
TZOFFSETFROM:-0700
TZOFFSETTO:-0800
TZNAME:PST
DTSTART:20261101T090000
END:STANDARD
BEGIN:DAYLIGHT
TZOFFSETFROM:-0800
TZOFFSETTO:-0700
TZNAME:PDT
DTSTART:20270314T100000
END:DAYLIGHT
BEGIN:STANDARD
TZOFFSETFROM:-0700
TZOFFSETTO:-0800
TZNAME:PST
DTSTART:20271107T090000
END:STANDARD
END:VTIMEZONE
BEGIN:VEVENT
DTSTART;TZID=America/Los_Angeles:20260418T100000
DTEND;TZID=America/Los_Angeles:20260418T170000
DTSTAMP:20260420T042425
CREATED:20260415T020717Z
LAST-MODIFIED:20260415T020719Z
UID:10004353-1776506400-1776531600@bestofamador.com
SUMMARY:Camp Plymouth Swap Meet & Military Vehicle Show
DESCRIPTION:The 48th Annual Camp Plymouth Military Vehicle Show & Swap Meet returns to Plymouth this April\, bringing together military vehicle enthusiasts\, collectors\, and curious visitors for four days of displays\, swapping\, and family-friendly fun. Billed as the largest annual military vehicle event in the West\, Camp Plymouth features historic military vehicles\, a large swap meet\, and plenty of opportunities to browse\, buy\, sell\, and admire vehicles and memorabilia. \n\n\n\nVisitors can enjoy free admission and free parking throughout the event. Highlights include a Thursday offsite excursion to Jimmy Strauss Jeep\, a women’s social and shopping outing\, a Friday general membership meeting open to attendees\, and Saturday showcase events featuring armor and HMMWVs\, along with a dinner and raffle Saturday evening. \n\n\n\nThe 48th Annual Camp Plymouth Military Vehicle Show & Swap Meet takes place Wednesday through Saturday\, April 15–18\, 2026\, at the Amador County Fairgrounds\, 18343 Empire Street\, in Plymouth\, CA\, with additional event activity at the adjacent 49er Village\, 18265 Highway 49. \n\n\n\nFor more information\, reservations\, and event details\, visit www.mvccnews.net or email John at in_garage@hotmail.com.
URL:https://bestofamador.com/event/camp-plymouth-swap-meet-military-vehicle-show/2026-04-18/
LOCATION:CA
ATTACH;FMTTYPE=image/jpeg:https://bestofamador.com/wp-content/uploads/2026/04/615840438_887552190306331_1730853536010191513_n.jpg
END:VEVENT
BEGIN:VEVENT
DTSTART;TZID=America/Los_Angeles:20260418T110000
DTEND;TZID=America/Los_Angeles:20260418T163000
DTSTAMP:20260420T042425
CREATED:20260413T000328Z
LAST-MODIFIED:20260413T000330Z
UID:10004321-1776510000-1776529800@bestofamador.com
SUMMARY:Budbreak Bonanza!
DESCRIPTION:Celebrate spring in wine country at Budbreak Bonanza\, a lively afternoon at Andis Wines featuring live music\, new wine releases\, food\, and vineyard views. Guests can enjoy music by The Babybacks\, a 360 photobooth\, Cousin’s Maine Lobster\, and spring menu specials from the Andis bistro\, along with pours of Harvest Widow Rosé\, Sciopelot\, and other fresh spring releases. \n\n\n\nReservations are encouraged. Guests who arrive with a reservation receive $2 off a glass of wine per person\, patio seating is first come\, first served\, and visitors are welcome to bring picnic blankets and lawn chairs. A $10 cover charge helps support the day’s entertainment and unlimited photobooth fun. For more information\, visit https://andiswines.com/event/budbreak-bonanza/. \n\n\n\nBudbreak Bonanza takes place Saturday\, April 18\, 2026\, from 11 AM to 4:30 PM at Andis Wines\, 11000 Shenandoah Road in Plymouth\, CA. Live music runs from 12 PM to 3 PM\, and Cousin’s Maine Lobster will be onsite from 12 PM to 3:30 PM.
URL:https://bestofamador.com/event/budbreak-bonanza/
LOCATION:Andis Wines\, 11000 Shenandoah Road\, Plymouth\, California\, 95669\, United States
CATEGORIES:Wine
ATTACH;FMTTYPE=image/png:https://bestofamador.com/wp-content/uploads/2026/04/The-Spring-Souree.png
ORGANIZER;CN="Andis Wines":MAILTO:info@andiswines.com
END:VEVENT
BEGIN:VEVENT
DTSTART;TZID=America/Los_Angeles:20260418T120000
DTEND;TZID=America/Los_Angeles:20260418T200000
DTSTAMP:20260420T042425
CREATED:20260213T065620Z
LAST-MODIFIED:20260213T065639Z
UID:10004308-1776513600-1776542400@bestofamador.com
SUMMARY:Harrah's 2nd Annual Car Show
DESCRIPTION:Get ready for a day of horsepower and style at the 2nd Annual Car Show presented by Harrah’s Northern California. From classic cars to modern exotics\, there will be something for every enthusiast to enjoy. The show kicks off at noon and features a judged award show at 4:30 PM\, plus vendor booths and live music throughout the afternoon and evening. \n\n\n\nLive music will be provided by Overdryve from 12 PM to 4 PM\, followed by Mike Torres Jr. headlining the post-show party beginning at 5 PM. Whether you’re a car owner showing off your ride or a fan of automotive culture\, this event offers a full day of entertainment and community spirit. \n\n\n\nRegistration for car entries is closed\, but spectators are welcome to come and enjoy the show. \n\n\n\nHarrah’s Northern California is located at 4640 Coal Mine Rd. in Ione.  For more information\, please contact Harrah’s Northern California at 866-915-0777.
URL:https://bestofamador.com/event/harrahs-car-show/
LOCATION:Harrah’s Northern California\, 4640 Coal Mine Road\, Ione\, California\, 95640\, United States
CATEGORIES:Car Show
ATTACH;FMTTYPE=image/jpeg:https://bestofamador.com/wp-content/uploads/2026/02/625097102_1308992264584203_2675468458205225809_n.jpg
END:VEVENT
BEGIN:VEVENT
DTSTART;TZID=America/Los_Angeles:20260418T140000
DTEND;TZID=America/Los_Angeles:20260418T160000
DTSTAMP:20260420T042425
CREATED:20260414T052138Z
LAST-MODIFIED:20260414T052140Z
UID:10004339-1776520800-1776528000@bestofamador.com
SUMMARY:Moriarty
DESCRIPTION:Baker Street West presents Moriarty by Ken Ludwig\, a fast-paced Sherlock Holmes adventure that puts the famous detective’s greatest rival center stage. Filled with intrigue\, disguises\, surprises\, and plenty of humor\, this clever production promises an entertaining mix of mystery\, theatrical hijinks\, and laugh-out-loud moments. \n\n\n\nThe show is described as lively\, playful\, and family-friendly\, with twists\, turns\, villains\, and even a sword fight or two along the way. Whether you’re a longtime Sherlock Holmes fan or just looking for a fun night at the theater\, Moriarty offers an engaging evening of suspense and comedy. \n\n\n\nTickets are $20 for students\, $24 for seniors\, and $28 for adults. If you are not a Founding Member\, you will also need to purchase a Baker Street West Theatre Society membership with your tickets. Seating is limited\, so early reservations are encouraged. \n\n\n\nMoriarty runs from Friday\, April 17 through Sunday\, May 10\, 2026\, at Baker Street West\, 108 Summit Street in Jackson\, CA. Performances are Fridays at 7 PM\, Saturdays at 2 PM\, and Sundays at 2 PM. \n\n\n\nTo reserve seats\, visit https://moriartybykenludwig.rsvpify.com/ or www.bakerstreetwest.com.
URL:https://bestofamador.com/event/moriarty/2026-04-18/
LOCATION:Baker Street West\, 108 Court Street\, Jackson\, California\, 95642\, United States
CATEGORIES:Theatre
ATTACH;FMTTYPE=image/png:https://bestofamador.com/wp-content/uploads/2026/04/unnamed.png
ORGANIZER;CN="Baker Street West":MAILTO:info@bakerstreetwest.com
END:VEVENT
BEGIN:VEVENT
DTSTART;TZID=America/Los_Angeles:20260418T193000
DTEND;TZID=America/Los_Angeles:20260418T213000
DTSTAMP:20260420T042425
CREATED:20260416T064445Z
LAST-MODIFIED:20260416T064447Z
UID:10004360-1776540600-1776547800@bestofamador.com
SUMMARY:Catch Me If You Can
DESCRIPTION:Volcano Theatre Company presents Catch Me If You Can\, a mystery-comedy by Jack Weinstock and Willie Gilbert based on the French play Trap for a Lonely Man by Robert Thomas. Set in the 1960s during Labor Day weekend at a remote Catskills cottage\, the story follows a newlywed advertising man whose bride disappears on their honeymoon\, only to be replaced by a mysterious woman claiming to be his wife. With the arrival of a priest and a bumbling detective\, the plot twists into a clever whodunit filled with confusion\, suspicion\, red herrings\, and a surprise ending. \n\n\n\nPerformances take place in Volcano’s intimate Cobblestone Theatre\, where even the furthest seats are close to the stage. Tickets are $24 for general admission and $22 for seniors. Seating is limited to just 45 people\, so advance tickets are recommended. Doors open 30 minutes before showtime\, seating is open\, and late entry is not allowed once the performance begins. \n\n\n\nCatch Me If You Can runs from Friday\, April 10 through Saturday\, May 16\, 2026\, at the Cobblestone Theatre\, 16138 Main Street in Volcano\, CA. Performances are Friday and Saturday evenings at 7:30 PM\, with Sunday matinees at 2 PM. \n\n\n\nFor tickets and more information\, visit www.volcanotheatre.net.
URL:https://bestofamador.com/event/catch-me-if-you-can-2/2026-04-18/
LOCATION:Cobblestone Theatre\, 16138 Main Street\, Volcano\, CA\, 95689\, United States
CATEGORIES:Theatre
ATTACH;FMTTYPE=image/jpeg:https://bestofamador.com/wp-content/uploads/2026/04/Play-1-1.jpeg
END:VEVENT
BEGIN:VEVENT
DTSTART;TZID=America/Los_Angeles:20260418T200000
DTEND;TZID=America/Los_Angeles:20260418T220000
DTSTAMP:20260420T042425
CREATED:20260416T061951Z
LAST-MODIFIED:20260416T061953Z
UID:10004355-1776542400-1776549600@bestofamador.com
SUMMARY:Locked-N-Loaded
DESCRIPTION:Enjoy a night of classic and modern country music when Locked-N-Loaded brings its high-energy show to Sutter Creek Theatre. Known for delivering the “true country experience\,” the multi-award-winning band performs chart-topping country hits spanning the 1960s through today\, with a full country lineup that includes pedal steel guitar and Nashville-style lead guitar. \n\n\n\nDoors open at 6:30 PM and the show begins at 7 PM. Open seating is available\, and beer and wine will be offered for purchase. Advance tickets are $25\, or $29 the day of the show. \n\n\n\nLocked-N-Loaded performs Saturday\, April 18\, 2026\, from 7 PM to 9 PM at Sutter Creek Theatre\, 44 Main Street in Sutter Creek\, CA. \n\n\n\nFor more information or to purchase tickets\, visit www.suttercreektheater.com or call 916-425-0077.
URL:https://bestofamador.com/event/locked-n-loaded/
LOCATION:Sutter Creek Theatre\, 44 Main Street\, Sutter Creek\, California\, 95685\, United States
CATEGORIES:Concert
ATTACH;FMTTYPE=image/jpeg:https://bestofamador.com/wp-content/uploads/2026/04/668597413_1603541788439468_145223978717994997_n.jpg
ORGANIZER;CN="Sutter Creek Theatre":MAILTO:info@suttercreektheatre.com
END:VEVENT
END:VCALENDAR