BEGIN:VCALENDAR
VERSION:2.0
PRODID:-//Best Of Amador.com - ECPv6.15.20//NONSGML v1.0//EN
CALSCALE:GREGORIAN
METHOD:PUBLISH
X-WR-CALNAME:Best Of Amador.com
X-ORIGINAL-URL:https://bestofamador.com
X-WR-CALDESC:Events for Best Of Amador.com
REFRESH-INTERVAL;VALUE=DURATION:PT1H
X-Robots-Tag:noindex
X-PUBLISHED-TTL:PT1H
BEGIN:VTIMEZONE
TZID:America/Los_Angeles
BEGIN:DAYLIGHT
TZOFFSETFROM:-0800
TZOFFSETTO:-0700
TZNAME:PDT
DTSTART:20250309T100000
END:DAYLIGHT
BEGIN:STANDARD
TZOFFSETFROM:-0700
TZOFFSETTO:-0800
TZNAME:PST
DTSTART:20251102T090000
END:STANDARD
BEGIN:DAYLIGHT
TZOFFSETFROM:-0800
TZOFFSETTO:-0700
TZNAME:PDT
DTSTART:20260308T100000
END:DAYLIGHT
BEGIN:STANDARD
TZOFFSETFROM:-0700
TZOFFSETTO:-0800
TZNAME:PST
DTSTART:20261101T090000
END:STANDARD
BEGIN:DAYLIGHT
TZOFFSETFROM:-0800
TZOFFSETTO:-0700
TZNAME:PDT
DTSTART:20270314T100000
END:DAYLIGHT
BEGIN:STANDARD
TZOFFSETFROM:-0700
TZOFFSETTO:-0800
TZNAME:PST
DTSTART:20271107T090000
END:STANDARD
END:VTIMEZONE
BEGIN:VEVENT
DTSTART;TZID=America/Los_Angeles:20260416T100000
DTEND;TZID=America/Los_Angeles:20260416T170000
DTSTAMP:20260420T012005
CREATED:20260415T020717Z
LAST-MODIFIED:20260415T020719Z
UID:10004351-1776333600-1776358800@bestofamador.com
SUMMARY:Camp Plymouth Swap Meet & Military Vehicle Show
DESCRIPTION:The 48th Annual Camp Plymouth Military Vehicle Show & Swap Meet returns to Plymouth this April\, bringing together military vehicle enthusiasts\, collectors\, and curious visitors for four days of displays\, swapping\, and family-friendly fun. Billed as the largest annual military vehicle event in the West\, Camp Plymouth features historic military vehicles\, a large swap meet\, and plenty of opportunities to browse\, buy\, sell\, and admire vehicles and memorabilia. \n\n\n\nVisitors can enjoy free admission and free parking throughout the event. Highlights include a Thursday offsite excursion to Jimmy Strauss Jeep\, a women’s social and shopping outing\, a Friday general membership meeting open to attendees\, and Saturday showcase events featuring armor and HMMWVs\, along with a dinner and raffle Saturday evening. \n\n\n\nThe 48th Annual Camp Plymouth Military Vehicle Show & Swap Meet takes place Wednesday through Saturday\, April 15–18\, 2026\, at the Amador County Fairgrounds\, 18343 Empire Street\, in Plymouth\, CA\, with additional event activity at the adjacent 49er Village\, 18265 Highway 49. \n\n\n\nFor more information\, reservations\, and event details\, visit www.mvccnews.net or email John at in_garage@hotmail.com.
URL:https://bestofamador.com/event/camp-plymouth-swap-meet-military-vehicle-show/2026-04-16/
LOCATION:CA
ATTACH;FMTTYPE=image/jpeg:https://bestofamador.com/wp-content/uploads/2026/04/615840438_887552190306331_1730853536010191513_n.jpg
END:VEVENT
END:VCALENDAR